BEGIN:VCALENDAR
VERSION:2.0
PRODID:-//Facultad de Teología Valencia - ECPv5.0.1//NONSGML v1.0//EN
CALSCALE:GREGORIAN
METHOD:PUBLISH
X-WR-CALNAME:Facultad de Teología Valencia
X-ORIGINAL-URL:https://www.teologiavalencia.es
X-WR-CALDESC:Eventos para Facultad de Teología Valencia
BEGIN:VTIMEZONE
TZID:Europe/Paris
BEGIN:DAYLIGHT
TZOFFSETFROM:+0100
TZOFFSETTO:+0200
TZNAME:CEST
DTSTART:20190331T010000
END:DAYLIGHT
BEGIN:STANDARD
TZOFFSETFROM:+0200
TZOFFSETTO:+0100
TZNAME:CET
DTSTART:20191027T010000
END:STANDARD
END:VTIMEZONE
BEGIN:VEVENT
DTSTART;VALUE=DATE:20191219
DTEND;VALUE=DATE:20191220
DTSTAMP:20260420T231251
CREATED:20190909T122456Z
LAST-MODIFIED:20190909T122456Z
UID:5472-1576713600-1576799999@www.teologiavalencia.es
SUMMARY:Último día de clases del primer semestre de Grado\, Licenciatura e ISCR
DESCRIPTION:
URL:https://www.teologiavalencia.es/evento/ultimo-dia-de-clases-del-primer-semestre-de-grado-licenciatura-e-iscr/
END:VEVENT
END:VCALENDAR