BEGIN:VCALENDAR
VERSION:2.0
PRODID:-//Facultad de Teología Valencia - ECPv5.0.1//NONSGML v1.0//EN
CALSCALE:GREGORIAN
METHOD:PUBLISH
X-WR-CALNAME:Facultad de Teología Valencia
X-ORIGINAL-URL:https://www.teologiavalencia.es
X-WR-CALDESC:Eventos para Facultad de Teología Valencia
BEGIN:VTIMEZONE
TZID:Europe/Paris
BEGIN:DAYLIGHT
TZOFFSETFROM:+0100
TZOFFSETTO:+0200
TZNAME:CEST
DTSTART:20180325T010000
END:DAYLIGHT
BEGIN:STANDARD
TZOFFSETFROM:+0200
TZOFFSETTO:+0100
TZNAME:CET
DTSTART:20181028T010000
END:STANDARD
END:VTIMEZONE
BEGIN:VEVENT
DTSTART;TZID=Europe/Paris:20180518T180000
DTEND;TZID=Europe/Paris:20180518T200000
DTSTAMP:20260421T085751
CREATED:20180511T131909Z
LAST-MODIFIED:20180511T131909Z
UID:2894-1526666400-1526673600@www.teologiavalencia.es
SUMMARY:Conferencia: "Los dones y la llamada de Dios son irrevocables"\, por Norbert Hofmann
DESCRIPTION:Norbert Hofmann SDB\, Secretario de la Comisión Pontificia para las relaciones con el Judaísmo\, visitará la Facultad de Teología San Vicente Ferrer de Valencia para participar en una conferencia organizada por las autoridades académicas de la Facultad y el Centro Ecuménico Padre Congar. Además\, también ha colaborado en la iniciativa la Asociación Amistad Judeo-Cristiana de Valencia. \nLa charla del Padre Hofmann llevará el título de “Los dones y la llamada de Dios son irrevocables” (Rom 11:29). \nLa cita será en el salón de actos de la Facultad de Teología\, a partir de las 18:00 horas. \nConferencia de Norbert Hofmann en la Facultad de Teología de Valencia \n
URL:https://www.teologiavalencia.es/evento/conferencia-los-dones-y-la-llamada-de-dios-son-irrevocables-por-norbert-hofmann/
LOCATION:Facultad de Teología San Vicente Ferrer\, C/Trinitarios\, 3\, Valencia\, Comunidad Valenciana\, 46003\, España
ATTACH;FMTTYPE=image/png:https://www.teologiavalencia.es/wp-content/uploads/2018/05/Norbert-Hofmann-web.png
END:VEVENT
END:VCALENDAR