BEGIN:VCALENDAR
VERSION:2.0
PRODID:-//Facultad de Teología Valencia - ECPv5.0.1//NONSGML v1.0//EN
CALSCALE:GREGORIAN
METHOD:PUBLISH
X-WR-CALNAME:Facultad de Teología Valencia
X-ORIGINAL-URL:https://www.teologiavalencia.es
X-WR-CALDESC:Eventos para Facultad de Teología Valencia
BEGIN:VTIMEZONE
TZID:Europe/Paris
BEGIN:DAYLIGHT
TZOFFSETFROM:+0100
TZOFFSETTO:+0200
TZNAME:CEST
DTSTART:20180325T010000
END:DAYLIGHT
BEGIN:STANDARD
TZOFFSETFROM:+0200
TZOFFSETTO:+0100
TZNAME:CET
DTSTART:20181028T010000
END:STANDARD
END:VTIMEZONE
BEGIN:VEVENT
DTSTART;VALUE=DATE:20180615
DTEND;VALUE=DATE:20180616
DTSTAMP:20260421T204431
CREATED:20171209T121329Z
LAST-MODIFIED:20171209T121329Z
UID:343-1529020800-1529107199@www.teologiavalencia.es
SUMMARY:Último día de exámenes ordinarios del Ciclo Institucional\, Licenciatura e ISCR
DESCRIPTION:
URL:https://www.teologiavalencia.es/evento/ultimo-dia-de-examenes-ordinarios-del-ciclo-institucional-licenciatura-e-iscr-2/
END:VEVENT
END:VCALENDAR