BEGIN:VCALENDAR
VERSION:2.0
PRODID:-//Facultad de Teología Valencia - ECPv5.0.1//NONSGML v1.0//EN
CALSCALE:GREGORIAN
METHOD:PUBLISH
X-WR-CALNAME:Facultad de Teología Valencia
X-ORIGINAL-URL:https://www.teologiavalencia.es
X-WR-CALDESC:Eventos para Facultad de Teología Valencia
BEGIN:VTIMEZONE
TZID:Europe/Paris
BEGIN:DAYLIGHT
TZOFFSETFROM:+0100
TZOFFSETTO:+0200
TZNAME:CEST
DTSTART:20180325T010000
END:DAYLIGHT
BEGIN:STANDARD
TZOFFSETFROM:+0200
TZOFFSETTO:+0100
TZNAME:CET
DTSTART:20181028T010000
END:STANDARD
END:VTIMEZONE
BEGIN:VEVENT
DTSTART;TZID=Europe/Paris:20180903T000000
DTEND;TZID=Europe/Paris:20180914T235900
DTSTAMP:20260421T152250
CREATED:20180724T115910Z
LAST-MODIFIED:20180903T080747Z
UID:3179-1535932800-1536969540@www.teologiavalencia.es
SUMMARY:Matrícula ordinaria del primer semestre
DESCRIPTION:Matrícula ordinaria del primer semestre del Ciclo Institucional\, Licenciatura e Instituto Superior de Ciencias Religiosas (ISCR). \n
URL:https://www.teologiavalencia.es/evento/matricula-ordinaria-del-primer-semestre/
END:VEVENT
BEGIN:VEVENT
DTSTART;VALUE=DATE:20180910
DTEND;VALUE=DATE:20180911
DTSTAMP:20260421T152250
CREATED:20180724T120301Z
LAST-MODIFIED:20180724T120301Z
UID:3182-1536537600-1536623999@www.teologiavalencia.es
SUMMARY:Examen extraordinario de Grado o Bachillerato
DESCRIPTION:Examen extraordinario de Grado o Bachillerato \n
URL:https://www.teologiavalencia.es/evento/examen-extraordinario-de-grado-o-bachillerato-2/
END:VEVENT
END:VCALENDAR