BEGIN:VCALENDAR
VERSION:2.0
PRODID:-//Facultad de Teología Valencia - ECPv5.0.1//NONSGML v1.0//EN
CALSCALE:GREGORIAN
METHOD:PUBLISH
X-WR-CALNAME:Facultad de Teología Valencia
X-ORIGINAL-URL:https://www.teologiavalencia.es
X-WR-CALDESC:Eventos para Facultad de Teología Valencia
BEGIN:VTIMEZONE
TZID:Europe/Paris
BEGIN:DAYLIGHT
TZOFFSETFROM:+0100
TZOFFSETTO:+0200
TZNAME:CEST
DTSTART:20180325T010000
END:DAYLIGHT
BEGIN:STANDARD
TZOFFSETFROM:+0200
TZOFFSETTO:+0100
TZNAME:CET
DTSTART:20181028T010000
END:STANDARD
END:VTIMEZONE
BEGIN:VEVENT
DTSTART;TZID=Europe/Paris:20180925T190000
DTEND;TZID=Europe/Paris:20180925T210000
DTSTAMP:20260421T152249
CREATED:20180921T110610Z
LAST-MODIFIED:20180921T110610Z
UID:3488-1537902000-1537909200@www.teologiavalencia.es
SUMMARY:Presentación del libro sobre el escolástico Francisco Suárez escrito por Salvador Castellote
DESCRIPTION:El catedrático emérito de la Facultad de Teología San Vicente Ferrer de Valencia y canónigo secretario de la Catedral de Valencia\, Salvador Castellote Cubells\, presentará el martes 25 de septiembre la obra Francisco Suárez\, Teoría sobre el espacio. De la inmensidad y la infinidad de Dios\, al espacio imaginario y los mundos posibles. \nLa presentación tendrá lugar a las 19:00 horas en el Salón de Actos de la Facultad de Teología de Valencia\, ubicada en la calle Trinitarios\, 3. Contará con la participación del autor acompañado por el cardenal arzobispo\, Antonio Cañizares\, el vicedecano de la Facultad de Teología\, José Santiago Pons\, y el catedrático emérito de la institución académica\, Juan José Garrido. \n \n
URL:https://www.teologiavalencia.es/evento/presentacion-del-libro-sobre-el-escolastico-francisco-suarez-escrito-por-salvador-castellote/
LOCATION:Facultad de Teología San Vicente Ferrer\, C/Trinitarios\, 3\, Valencia\, Comunidad Valenciana\, 46003\, España
CATEGORIES:Presentaciones
ATTACH;FMTTYPE=image/jpeg:https://www.teologiavalencia.es/wp-content/uploads/2018/09/Cartel-Presen-Libro-Castellote.jpg
END:VEVENT
END:VCALENDAR