BEGIN:VCALENDAR
VERSION:2.0
PRODID:-//Facultad de Teología Valencia - ECPv5.0.1//NONSGML v1.0//EN
CALSCALE:GREGORIAN
METHOD:PUBLISH
X-WR-CALNAME:Facultad de Teología Valencia
X-ORIGINAL-URL:https://www.teologiavalencia.es
X-WR-CALDESC:Eventos para Facultad de Teología Valencia
BEGIN:VTIMEZONE
TZID:Europe/Paris
BEGIN:DAYLIGHT
TZOFFSETFROM:+0100
TZOFFSETTO:+0200
TZNAME:CEST
DTSTART:20180325T010000
END:DAYLIGHT
BEGIN:STANDARD
TZOFFSETFROM:+0200
TZOFFSETTO:+0100
TZNAME:CET
DTSTART:20181028T010000
END:STANDARD
END:VTIMEZONE
BEGIN:VEVENT
DTSTART;VALUE=DATE:20181001
DTEND;VALUE=DATE:20181013
DTSTAMP:20260421T134742
CREATED:20180724T121258Z
LAST-MODIFIED:20180724T121258Z
UID:3192-1538352000-1539388799@www.teologiavalencia.es
SUMMARY:Presentación de convalidaciones
DESCRIPTION:Plazo para la presentación de solicitudes de convalidación \n
URL:https://www.teologiavalencia.es/evento/presentacion-de-convalidaciones/
END:VEVENT
BEGIN:VEVENT
DTSTART;VALUE=DATE:20181009
DTEND;VALUE=DATE:20181010
DTSTAMP:20260421T134742
CREATED:20180724T121616Z
LAST-MODIFIED:20180724T121616Z
UID:3198-1539043200-1539129599@www.teologiavalencia.es
SUMMARY:FIESTA: Día de la Comunitat Valenciana
DESCRIPTION:Fiesta de la Comunitat Valenciana \n
URL:https://www.teologiavalencia.es/evento/fiesta-dia-de-la-comunitat-valenciana/
END:VEVENT
END:VCALENDAR