BEGIN:VCALENDAR
VERSION:2.0
PRODID:-//Facultad de Teología Valencia - ECPv5.0.1//NONSGML v1.0//EN
CALSCALE:GREGORIAN
METHOD:PUBLISH
X-WR-CALNAME:Facultad de Teología Valencia
X-ORIGINAL-URL:https://www.teologiavalencia.es
X-WR-CALDESC:Eventos para Facultad de Teología Valencia
BEGIN:VTIMEZONE
TZID:Europe/Paris
BEGIN:DAYLIGHT
TZOFFSETFROM:+0100
TZOFFSETTO:+0200
TZNAME:CEST
DTSTART:20180325T010000
END:DAYLIGHT
BEGIN:STANDARD
TZOFFSETFROM:+0200
TZOFFSETTO:+0100
TZNAME:CET
DTSTART:20181028T010000
END:STANDARD
END:VTIMEZONE
BEGIN:VEVENT
DTSTART;TZID=Europe/Paris:20181122T190000
DTEND;TZID=Europe/Paris:20181122T200000
DTSTAMP:20260421T120710
CREATED:20181119T151447Z
LAST-MODIFIED:20181119T152617Z
UID:3810-1542913200-1542916800@www.teologiavalencia.es
SUMMARY:Presentación de 'Jorge Mario Bergoglio. Una biografía intelectual'\, por Massimo Borghesi
DESCRIPTION:  \nEl filósofo y ensayista Massimo Borghesi presentará en la Facultad de Teología San Vicente Ferrer de Valencia el libro Jorge Mario Bergoglio. Una biografía intelectual. Dialéctica y mística. La cita es este jueves\, 22 de noviembre\, a las 19:00 horas en el salón de actos de la institución universitaria. \nBorghesi se encuentra en España para presentar esta obra en las ciudades de Madrid\, Barcelona y Valencia. En nuestra Facultad\, acompañarán al autor los profesores Agustín Domingo Moratalla yGonzalo Albero Alabort. La presentación estará moderada por el Director del Instituto Superior de Ciencias Religiosas\, Juan Miguel Díaz Rodelas. \n \n
URL:https://www.teologiavalencia.es/evento/presentacion-de-jorge-mario-bergoglio-una-biografia-intelectual-por-massimo-borghesi/
LOCATION:Facultad de Teología San Vicente Ferrer\, C/Trinitarios\, 3\, Valencia\, Comunidad Valenciana\, 46003\, España
CATEGORIES:Presentaciones
END:VEVENT
BEGIN:VEVENT
DTSTART;TZID=Europe/Paris:20181122T200000
DTEND;TZID=Europe/Paris:20181122T213000
DTSTAMP:20260421T120710
CREATED:20181119T151744Z
LAST-MODIFIED:20181119T152504Z
UID:3813-1542916800-1542922200@www.teologiavalencia.es
SUMMARY:Jornada festiva del ISCR Valencia
DESCRIPTION:El Instituto Superior de Ciencias Religiosas (ISCR) de Valencia ha organizado para el jueves 22 de noviembre de 2018 un encuentro festivo dirigido a todos los alumnos\, antiguos alumnos y profesores con motivo del inicio del nuevo curso académico. El objetivo es conseguir que “todos los que formamos el ISCR estrechemos lazos de amistad y confianza y que\, en definitiva\, nos conozcamos algo más”\, han señalado los responsables de la institución universitaria. \nLa jornada comenzará con la presentación del libro Jorge Mario Bergoglio. Una biografía intelectual. Dialéctica y mística\, escrito por el filósofo italiano Massimo Borghesi y publicado por Ediciones Encuentro. Será a las 19:00 horas en el salón de actos de la Facultad de Teología San Vicente Ferrer. Valencia el libro La cita es este jueves\, 22 de noviembre\, a las 19:00 horas en el salón de actos de la institución universitaria. \nDespués de esta presentación\, tendrá lugar una eucaristía\, a las 20:00 horas\, tras la que se ofrecerá a todos los asistentes un ágape en el Claustro de la Facultad. \n \n
URL:https://www.teologiavalencia.es/evento/jornada-festiva-del-iscr-valencia/
LOCATION:Facultad de Teología San Vicente Ferrer\, C/Trinitarios\, 3\, Valencia\, Comunidad Valenciana\, 46003\, España
END:VEVENT
END:VCALENDAR