BEGIN:VCALENDAR
VERSION:2.0
PRODID:-//Facultad de Teología Valencia - ECPv5.0.1//NONSGML v1.0//EN
CALSCALE:GREGORIAN
METHOD:PUBLISH
X-WR-CALNAME:Facultad de Teología Valencia
X-ORIGINAL-URL:https://www.teologiavalencia.es
X-WR-CALDESC:Eventos para Facultad de Teología Valencia
BEGIN:VTIMEZONE
TZID:Europe/Paris
BEGIN:DAYLIGHT
TZOFFSETFROM:+0100
TZOFFSETTO:+0200
TZNAME:CEST
DTSTART:20180325T010000
END:DAYLIGHT
BEGIN:STANDARD
TZOFFSETFROM:+0200
TZOFFSETTO:+0100
TZNAME:CET
DTSTART:20181028T010000
END:STANDARD
END:VTIMEZONE
BEGIN:VEVENT
DTSTART;TZID=Europe/Paris:20181214T190000
DTEND;TZID=Europe/Paris:20181214T203000
DTSTAMP:20260421T103032
CREATED:20181128T130100Z
LAST-MODIFIED:20181204T150403Z
UID:3889-1544814000-1544819400@www.teologiavalencia.es
SUMMARY:Ángel Peris presenta en la Facultad su libro sobre Ortega y Gasset
DESCRIPTION: \nÁngel Peris Suay\, profesor de Historia de la Filosofía en la Facultad de Teología San Vicente Ferrer\, presentará en Valencia el libro Liberalismo y democracia en la obra de Ortega y Gasset\, editado este mismo año por la editorial Biblioteca Nueva. La cita será el viernes 14 de diciembre\, a las 19:00 horas en el salón de actos de nuestra Facultad. \nEn el acto\, acompañarán al autor el Decano de la institución universitaria\, Vicente Botella\, el Director del Departamento de Filosofía\, Gonzalo Albero y el Catedrático Emérito Juan José Garrido. \n
URL:https://www.teologiavalencia.es/evento/angel-peris-presenta-en-la-facultad-su-libro-sobre-ortega-y-gasset/
CATEGORIES:Presentaciones
END:VEVENT
END:VCALENDAR