BEGIN:VCALENDAR
VERSION:2.0
PRODID:-//Facultad de Teología Valencia - ECPv5.0.1//NONSGML v1.0//EN
CALSCALE:GREGORIAN
METHOD:PUBLISH
X-WR-CALNAME:Facultad de Teología Valencia
X-ORIGINAL-URL:https://www.teologiavalencia.es
X-WR-CALDESC:Eventos para Facultad de Teología Valencia
BEGIN:VTIMEZONE
TZID:Europe/Paris
BEGIN:DAYLIGHT
TZOFFSETFROM:+0100
TZOFFSETTO:+0200
TZNAME:CEST
DTSTART:20190331T010000
END:DAYLIGHT
BEGIN:STANDARD
TZOFFSETFROM:+0200
TZOFFSETTO:+0100
TZNAME:CET
DTSTART:20191027T010000
END:STANDARD
END:VTIMEZONE
BEGIN:VEVENT
DTSTART;VALUE=DATE:20190121
DTEND;VALUE=DATE:20190202
DTSTAMP:20260421T072913
CREATED:20180724T124723Z
LAST-MODIFIED:20180724T124723Z
UID:3232-1548028800-1549065599@www.teologiavalencia.es
SUMMARY:Periodo de EXÁMENES
DESCRIPTION:Periodo de exámenes del Ciclo Institucional\, Licenciatura e ISCR \n
URL:https://www.teologiavalencia.es/evento/periodo-de-examenes/
END:VEVENT
BEGIN:VEVENT
DTSTART;VALUE=DATE:20190128
DTEND;VALUE=DATE:20190129
DTSTAMP:20260421T072913
CREATED:20180724T125112Z
LAST-MODIFIED:20180724T125112Z
UID:3236-1548633600-1548719999@www.teologiavalencia.es
SUMMARY:Fiesta de Santo Tomás de Aquino
DESCRIPTION:Fiesta de Santo Tomás de Aquino \n
URL:https://www.teologiavalencia.es/evento/fiesta-de-santo-tomas-de-aquino-2/
END:VEVENT
BEGIN:VEVENT
DTSTART;VALUE=DATE:20190128
DTEND;VALUE=DATE:20190209
DTSTAMP:20260421T072913
CREATED:20180724T125232Z
LAST-MODIFIED:20180724T125232Z
UID:3238-1548633600-1549670399@www.teologiavalencia.es
SUMMARY:Matrícula ordinaria del segundo semestre
DESCRIPTION:Matrícula ordinaria del segundo semestre del Ciclo Institucional\, Licenciatura e ISCR \n
URL:https://www.teologiavalencia.es/evento/matricula-ordinaria-del-segundo-semestre/
END:VEVENT
BEGIN:VEVENT
DTSTART;TZID=Europe/Paris:20190128T180000
DTEND;TZID=Europe/Paris:20190128T203000
DTSTAMP:20260421T072913
CREATED:20190114T143816Z
LAST-MODIFIED:20190114T143816Z
UID:4125-1548698400-1548707400@www.teologiavalencia.es
SUMMARY:Festividad de Santo Tomás de Aquino
DESCRIPTION:La Facultad de Teología San Vicente Ferrer de Valencia celebrará la festividad de Santo Tomás de Aquino el próximo lunes 28 de enero. \nA las 18:00 horas habrá una Eucaristía en la capilla de la misma Facultad. Sobre las 19:00 horas\, el salón de actos acogerá la conferencia La esperanza en Santo Tomás. Una propuesta para el mundo contemporáneo a cargo del profesor\, dominico y poeta Antonio Praena. \nTras la ponencia\, todos los presentes podrán disfrutar de un vino de honor. \n \n
URL:https://www.teologiavalencia.es/evento/festividad-de-santo-tomas-de-aquino/
LOCATION:Facultad de Teología San Vicente Ferrer\, C/Trinitarios\, 3\, Valencia\, Comunidad Valenciana\, 46003\, España
CATEGORIES:Festividades
END:VEVENT
END:VCALENDAR