BEGIN:VCALENDAR
VERSION:2.0
PRODID:-//Facultad de Teología Valencia - ECPv5.0.1//NONSGML v1.0//EN
CALSCALE:GREGORIAN
METHOD:PUBLISH
X-WR-CALNAME:Facultad de Teología Valencia
X-ORIGINAL-URL:https://www.teologiavalencia.es
X-WR-CALDESC:Eventos para Facultad de Teología Valencia
BEGIN:VTIMEZONE
TZID:Europe/Paris
BEGIN:DAYLIGHT
TZOFFSETFROM:+0100
TZOFFSETTO:+0200
TZNAME:CEST
DTSTART:20190331T010000
END:DAYLIGHT
BEGIN:STANDARD
TZOFFSETFROM:+0200
TZOFFSETTO:+0100
TZNAME:CET
DTSTART:20191027T010000
END:STANDARD
END:VTIMEZONE
BEGIN:VEVENT
DTSTART;VALUE=DATE:20190128
DTEND;VALUE=DATE:20190209
DTSTAMP:20260421T072913
CREATED:20180724T125232Z
LAST-MODIFIED:20180724T125232Z
UID:3238-1548633600-1549670399@www.teologiavalencia.es
SUMMARY:Matrícula ordinaria del segundo semestre
DESCRIPTION:Matrícula ordinaria del segundo semestre del Ciclo Institucional\, Licenciatura e ISCR \n
URL:https://www.teologiavalencia.es/evento/matricula-ordinaria-del-segundo-semestre/
END:VEVENT
BEGIN:VEVENT
DTSTART;VALUE=DATE:20190204
DTEND;VALUE=DATE:20190209
DTSTAMP:20260421T072913
CREATED:20180724T125622Z
LAST-MODIFIED:20180911T132857Z
UID:3240-1549238400-1549670399@www.teologiavalencia.es
SUMMARY:SEMANA NO LECTIVA
DESCRIPTION:Semana no lectiva \n
URL:https://www.teologiavalencia.es/evento/semana-no-lectiva-2/
CATEGORIES:Vacaciones o fiestas
END:VEVENT
BEGIN:VEVENT
DTSTART;TZID=Europe/Paris:20190207T110000
DTEND;TZID=Europe/Paris:20190207T133000
DTSTAMP:20260421T072913
CREATED:20190206T113115Z
LAST-MODIFIED:20190206T113228Z
UID:4342-1549537200-1549546200@www.teologiavalencia.es
SUMMARY:Conferencia de José María Sánchez de Lamadrid en el Proceso de Reencuentro Sacerdotal.
DESCRIPTION:La Facultad de Teología San Vicente Ferrer de Valencia acogerá este jueves\, 7 de febrero\, la segunda conferencia prevista en el Proceso de Reencuentro Sacerdotal puesto en marcha por la Archidiócesis de Valencia para los presbíteros. Esta charla tratará de profundizar en el tema de la “visión” que es necesaria tener en una Parroquia. “La misión de una parroquia presupone una visión conjunta por parte de los sacerdotes\, los religiosos y los laicos sobre su esencia misionera y evangelizadora”\, señalan desde la comisión diocesana encargada del Reencuentro. \nPara dar ejemplo de dicha “visión” se ha invitado a participar al sacerdote José María Sánchez de Lamadrid\, párroco desde 2007 de Santo Domingo de la Calzada y la Inmaculada Concepción de la localidad madrileña de Algete. La conferencia comenzará a las 11:00 horas en el salón de actos de la institución universitaria. \n \n
URL:https://www.teologiavalencia.es/evento/conferencia-de-jose-maria-sanchez-de-lamadrid-en-el-proceso-de-reencuentro-sacerdotal/
LOCATION:Facultad de Teología San Vicente Ferrer\, C/Trinitarios\, 3\, Valencia\, Comunidad Valenciana\, 46003\, España
CATEGORIES:Conferencias
END:VEVENT
END:VCALENDAR