BEGIN:VCALENDAR
VERSION:2.0
PRODID:-//Facultad de Teología Valencia - ECPv5.0.1//NONSGML v1.0//EN
CALSCALE:GREGORIAN
METHOD:PUBLISH
X-WR-CALNAME:Facultad de Teología Valencia
X-ORIGINAL-URL:https://www.teologiavalencia.es
X-WR-CALDESC:Eventos para Facultad de Teología Valencia
BEGIN:VTIMEZONE
TZID:Europe/Paris
BEGIN:DAYLIGHT
TZOFFSETFROM:+0100
TZOFFSETTO:+0200
TZNAME:CEST
DTSTART:20190331T010000
END:DAYLIGHT
BEGIN:STANDARD
TZOFFSETFROM:+0200
TZOFFSETTO:+0100
TZNAME:CET
DTSTART:20191027T010000
END:STANDARD
END:VTIMEZONE
BEGIN:VEVENT
DTSTART;VALUE=DATE:20190227
DTEND;VALUE=DATE:20190228
DTSTAMP:20260421T054833
CREATED:20180724T130255Z
LAST-MODIFIED:20180724T130255Z
UID:3252-1551225600-1551311999@www.teologiavalencia.es
SUMMARY:Junta de Facultad
DESCRIPTION:Reunión de la Junta de Facultad \n
URL:https://www.teologiavalencia.es/evento/junta-de-facultad-2/
END:VEVENT
END:VCALENDAR