BEGIN:VCALENDAR
VERSION:2.0
PRODID:-//Facultad de Teología Valencia - ECPv5.0.1//NONSGML v1.0//EN
CALSCALE:GREGORIAN
METHOD:PUBLISH
X-WR-CALNAME:Facultad de Teología Valencia
X-ORIGINAL-URL:https://www.teologiavalencia.es
X-WR-CALDESC:Eventos para Facultad de Teología Valencia
BEGIN:VTIMEZONE
TZID:Europe/Paris
BEGIN:DAYLIGHT
TZOFFSETFROM:+0100
TZOFFSETTO:+0200
TZNAME:CEST
DTSTART:20190331T010000
END:DAYLIGHT
BEGIN:STANDARD
TZOFFSETFROM:+0200
TZOFFSETTO:+0100
TZNAME:CET
DTSTART:20191027T010000
END:STANDARD
END:VTIMEZONE
BEGIN:VEVENT
DTSTART;VALUE=DATE:20190327
DTEND;VALUE=DATE:20190328
DTSTAMP:20260421T054954
CREATED:20181128T123009Z
LAST-MODIFIED:20181128T123009Z
UID:3880-1553644800-1553731199@www.teologiavalencia.es
SUMMARY:Reunión de la Comisión Permanente
DESCRIPTION:
URL:https://www.teologiavalencia.es/evento/reunion-de-la-comision-permanente-3/
CATEGORIES:Comisión Permanente
END:VEVENT
BEGIN:VEVENT
DTSTART;TZID=Europe/Paris:20190327T110000
DTEND;TZID=Europe/Paris:20190327T130000
DTSTAMP:20260421T054954
CREATED:20190315T115912Z
LAST-MODIFIED:20190315T120011Z
UID:4724-1553684400-1553691600@www.teologiavalencia.es
SUMMARY:'Cátedra Santo Tomás de Aquino': acto inaugural
DESCRIPTION:El próximo 27 de marzo\, miércoles\, la Facultad de Teología San Vicente Ferrer de Valencia presentará oficialmente la nueva Cátedra Santo Tomás de Aquino. Esta institución investigadora nacida para ayudar en la “enseñanza y difusión del pensamiento filosófico-teológico de Santo Tomás y de la teología inspirada por él”. \nEl cardenal arzobispo de Valencia\, Antonio Cañizares\, también Gran Canciller de la Facultad de Teología\, ha nombrado a fr. Martín Gelabert o.p. como primer director de dicha Cátedra. El padre dominico explica que la nueva institución académica “pretende\, ante todo\, dar a conocer el pensamiento del santo\, pero teniendo en cuenta que su pensamiento puede y debe entrar en diálogo con la cultura moderna\, y sus principios pueden y deben poder aplicarse a los nuevos problemas que van surgiendo en el campo eclesial y teológico”. \nLa Cátedra Santo Tomás de Aquino se inaugurará con la conferencia ¿Cómo es un magister y un estudiante en el modelo de Aquino?\, a cargo del Rector de la Universidad Pontificia Santo Tomás de Aquino (Angelicum) en Roma\, Michal Paluch o.p. Será a las 11:00 horas en el salón de actos de la Facultad. \n \n
URL:https://www.teologiavalencia.es/evento/catedra-santo-tomas-de-aquino-acto-inaugural/
LOCATION:Facultad de Teología San Vicente Ferrer\, C/Trinitarios\, 3\, Valencia\, Comunidad Valenciana\, 46003\, España
CATEGORIES:Conferencias,Presentaciones
END:VEVENT
END:VCALENDAR