BEGIN:VCALENDAR
VERSION:2.0
PRODID:-//Facultad de Teología Valencia - ECPv5.0.1//NONSGML v1.0//EN
CALSCALE:GREGORIAN
METHOD:PUBLISH
X-WR-CALNAME:Facultad de Teología Valencia
X-ORIGINAL-URL:https://www.teologiavalencia.es
X-WR-CALDESC:Eventos para Facultad de Teología Valencia
BEGIN:VTIMEZONE
TZID:Europe/Paris
BEGIN:DAYLIGHT
TZOFFSETFROM:+0100
TZOFFSETTO:+0200
TZNAME:CEST
DTSTART:20190331T010000
END:DAYLIGHT
BEGIN:STANDARD
TZOFFSETFROM:+0200
TZOFFSETTO:+0100
TZNAME:CET
DTSTART:20191027T010000
END:STANDARD
END:VTIMEZONE
BEGIN:VEVENT
DTSTART;TZID=Europe/Paris:20190515T113000
DTEND;TZID=Europe/Paris:20190515T133000
DTSTAMP:20260421T023533
CREATED:20190502T130843Z
LAST-MODIFIED:20190502T132245Z
UID:4869-1557919800-1557927000@www.teologiavalencia.es
SUMMARY:Diálogos de Teología Almudí 2019: Sesión 2
DESCRIPTION:Los Diálogos de Teología de la Biblioteca Sacerdotal Almudí alcanzan este año su 21 edición y volverán a celebrarse en la Facultad de Teología de Valencia. Las conferencias reflexionarán sobre el tema El Papa: principio visible de unidad de fe y comunión en la Iglesia. \nLa segunda jornada será el miércoles 15 de mayo\, a las 11:30 horas en el salón de actos de la Facultad. En esta ocasión abrirá la sesión la corresponsal de la Cadena Cope en el Vaticano e Italia\, Eva Fernández Huéscar\, que hablará sobre el Papa Francisco: comunicar la alegría de Dios a través de los gestos. \nEl Obispo de Menorca\, Monseñor Francisco Conesa Ferrer\, será el encargado de cerrar la 21 edición del los Diálogos de Teología con la conferencia La Iglesia\, servidora del diálogo. Teoría y praxis del diálogo social según el Papa Francisco. \n \n
URL:https://www.teologiavalencia.es/evento/dialogos-de-teologia-almudi-2019-sesion-2/
LOCATION:Facultad de Teología San Vicente Ferrer\, C/Trinitarios\, 3\, Valencia\, Comunidad Valenciana\, 46003\, España
CATEGORIES:Conferencias
END:VEVENT
END:VCALENDAR