BEGIN:VCALENDAR
VERSION:2.0
PRODID:-//Facultad de Teología Valencia - ECPv5.0.1//NONSGML v1.0//EN
CALSCALE:GREGORIAN
METHOD:PUBLISH
X-WR-CALNAME:Facultad de Teología Valencia
X-ORIGINAL-URL:https://www.teologiavalencia.es
X-WR-CALDESC:Eventos para Facultad de Teología Valencia
BEGIN:VTIMEZONE
TZID:Europe/Paris
BEGIN:DAYLIGHT
TZOFFSETFROM:+0100
TZOFFSETTO:+0200
TZNAME:CEST
DTSTART:20190331T010000
END:DAYLIGHT
BEGIN:STANDARD
TZOFFSETFROM:+0200
TZOFFSETTO:+0100
TZNAME:CET
DTSTART:20191027T010000
END:STANDARD
END:VTIMEZONE
BEGIN:VEVENT
DTSTART;TZID=Europe/Paris:20190620T110000
DTEND;TZID=Europe/Paris:20190620T123000
DTSTAMP:20260421T004133
CREATED:20190614T115835Z
LAST-MODIFIED:20190614T124342Z
UID:5181-1561028400-1561033800@www.teologiavalencia.es
SUMMARY:Presentación de la nueva Cátedra de Misionología
DESCRIPTION:La Facultad de Teología San Vicente Ferrer de Valencia y las Obras Misionales Pontificias (OMP) presentan la nueva Cátedra de Misionología el jueves 20 de junio\, a partir de las 11:00 horas en el salón de actos de la institución universitaria. \nEn el acto intervendrán el Director de la Cátedra\, Mariano Ruiz\, y el presidente de la Comisión Episcopal de Misiones y Cooperación entre las Iglesias\, Arzobispo de Pamplona y Obispo de Tudela\, monseñor Francisco Pérez González\, que ofrecerá la conferencia La raíz de la misión. Está prevista la asistencia del cardenal arzobispo de Valencia\, Antonio Cañizares\, así como la del Director Nacional de OMP\, José María Calderón. \n \n
URL:https://www.teologiavalencia.es/evento/presentacion-de-la-nueva-catedra-de-misionologia/
LOCATION:Facultad de Teología San Vicente Ferrer\, C/Trinitarios\, 3\, Valencia\, Comunidad Valenciana\, 46003\, España
CATEGORIES:Conferencias,Presentaciones
END:VEVENT
END:VCALENDAR