BEGIN:VCALENDAR
VERSION:2.0
PRODID:-//Facultad de Teología Valencia - ECPv5.0.1//NONSGML v1.0//EN
CALSCALE:GREGORIAN
METHOD:PUBLISH
X-WR-CALNAME:Facultad de Teología Valencia
X-ORIGINAL-URL:https://www.teologiavalencia.es
X-WR-CALDESC:Eventos para Facultad de Teología Valencia
BEGIN:VTIMEZONE
TZID:Europe/Paris
BEGIN:DAYLIGHT
TZOFFSETFROM:+0100
TZOFFSETTO:+0200
TZNAME:CEST
DTSTART:20190331T010000
END:DAYLIGHT
BEGIN:STANDARD
TZOFFSETFROM:+0200
TZOFFSETTO:+0100
TZNAME:CET
DTSTART:20191027T010000
END:STANDARD
END:VTIMEZONE
BEGIN:VEVENT
DTSTART;TZID=Europe/Paris:20191120T110000
DTEND;TZID=Europe/Paris:20191120T123000
DTSTAMP:20260420T195600
CREATED:20191105T111529Z
LAST-MODIFIED:20191105T111600Z
UID:5827-1574247600-1574253000@www.teologiavalencia.es
SUMMARY:Presentación de Jalones para una historia del pensamiento cristiano en Valencia
DESCRIPTION:La Facultad de Teología San Vicente Ferrer de Valencia acogerá el miércoles 20 de noviembre la presentación del libro Jalones para una historia del pensamiento cristiano en Valencia desde el siglo XIII al XX\, elaborado por el Catedrático Emérito Alfonso Esponera Cerdán OP. La obra fue publicada el pasado mes de enero por el Servicio de Publicaciones (SIFTEL) de la institución universitaria. \nLa presentación se desarrollará en el salón de actos de la Facultad de Teología de Valencia\, a las 11:00 horas\, y en la misma intervendrán\, además del autor\, el Decano de la institución\, Vicente Botella Cubells OP\, y el Catedrático Emérito de la Universitat de València Antonio Mestre Sanchis. \nAlfonso Esponera explica que el volumen «es un desarrollo expositivo que pretende dar a conocer una síntesis del pensamiento cristiano en Valencia cuyo comienzo he situado en en el siglo XIII\, después de la Reconquista\, con la organización de la diócesis de Valencia\, aunque se sabe que hubo pensadores cristianos antes de la Reconquista\, por ejemplo el Obispo Eutropio\, pero no existe mucha información al respecto». Alcanza «hasta 1965\, con el Concilio Vaticano II\, siempre procurando hacer referencia a las tres diócesis de la Comunidad Valenciana aunque el principal bloque es el relativo a la diócesis de Valencia»\, dice el padre Esponera. \n \n\n
URL:https://www.teologiavalencia.es/evento/5827/
LOCATION:Facultad de Teología San Vicente Ferrer\, C/Trinitarios\, 3\, Valencia\, Comunidad Valenciana\, 46003\, España
CATEGORIES:Presentaciones
END:VEVENT
END:VCALENDAR