BEGIN:VCALENDAR
VERSION:2.0
PRODID:-//Facultad de Teología Valencia - ECPv5.0.1//NONSGML v1.0//EN
CALSCALE:GREGORIAN
METHOD:PUBLISH
X-WR-CALNAME:Facultad de Teología Valencia
X-ORIGINAL-URL:https://www.teologiavalencia.es
X-WR-CALDESC:Eventos para Facultad de Teología Valencia
BEGIN:VTIMEZONE
TZID:Europe/Paris
BEGIN:DAYLIGHT
TZOFFSETFROM:+0100
TZOFFSETTO:+0200
TZNAME:CEST
DTSTART:20210328T010000
END:DAYLIGHT
BEGIN:STANDARD
TZOFFSETFROM:+0200
TZOFFSETTO:+0100
TZNAME:CET
DTSTART:20211031T010000
END:STANDARD
END:VTIMEZONE
BEGIN:VEVENT
DTSTART;TZID=Europe/Paris:20210617T123000
DTEND;TZID=Europe/Paris:20210617T140000
DTSTAMP:20260424T192753
CREATED:20210609T081310Z
LAST-MODIFIED:20210609T081310Z
UID:7614-1623933000-1623938400@www.teologiavalencia.es
SUMMARY:«El sacerdote\, padre espiritual de muchas gentes». Diálogos de Teología Almudí 2021
DESCRIPTION:El religioso francés Jacques Philippe\, uno de los autores sobre espiritualidad más reconocidos del mundo\, será el protagonista de la 22 edición de los Diálogos de Teología de Almudí. Después de un año de parón obligado por la pandemia\, la Facultad de Teología San Vicente Ferrer de Valencia volverá a acoger una cita tradicional dentro del calendario de conferencias sobre Teología destinadas especialmente para sacerdotes y seminaristas. Aunque esta edición de los Diálogos solo constará de una sesión\, la importancia del invitado justifica la expectación que se ha levantado frente a su visita\, tal y como confirma el director de la biblioteca sacerdotal Almudí\, Antonio Carmona. \nLa conferencia del padre Philippe llevará por título El sacerdote\, padre espiritual de muchas gentes. Puesto que el conferenciante ofrecerá su reflexión en francés\, desde la organización se ha previsto una traducción simultánea al castellano. \nJacques Philippe en la Facultad de Teología de Valencia \n
URL:https://www.teologiavalencia.es/evento/el-sacerdote-padre-espiritual-de-muchas-gentes-dialogos-de-teologia-almudi-2021/
LOCATION:Facultad de Teología San Vicente Ferrer\, C/Trinitarios\, 3\, Valencia\, Comunidad Valenciana\, 46003\, España
CATEGORIES:Conferencias
END:VEVENT
END:VCALENDAR