BEGIN:VCALENDAR
VERSION:2.0
PRODID:-//Facultad de Teología Valencia - ECPv5.0.1//NONSGML v1.0//EN
CALSCALE:GREGORIAN
METHOD:PUBLISH
X-WR-CALNAME:Facultad de Teología Valencia
X-ORIGINAL-URL:https://www.teologiavalencia.es
X-WR-CALDESC:Eventos para Facultad de Teología Valencia
BEGIN:VTIMEZONE
TZID:Europe/Paris
BEGIN:DAYLIGHT
TZOFFSETFROM:+0100
TZOFFSETTO:+0200
TZNAME:CEST
DTSTART:20220327T010000
END:DAYLIGHT
BEGIN:STANDARD
TZOFFSETFROM:+0200
TZOFFSETTO:+0100
TZNAME:CET
DTSTART:20221030T010000
END:STANDARD
END:VTIMEZONE
BEGIN:VEVENT
DTSTART;TZID=Europe/Paris:20221019T123000
DTEND;TZID=Europe/Paris:20221019T140000
DTSTAMP:20260423T163425
CREATED:20221013T065721Z
LAST-MODIFIED:20221013T065721Z
UID:9233-1666182600-1666188000@www.teologiavalencia.es
SUMMARY:Conferencia: ‘María\, discípula y misionera’
DESCRIPTION: \nLa Cátedra de Misionología de la Facultad de Teología San Vicente Ferrer – UCV ha organizado la conferencia María\, discípula y misionera con motivo de la campaña del Domund 2022\, que este año se celebra el domingo 23 de octubre. \n\nLa ponencia será ofrecida por María José Caram\, profesora de la Universidad Católica de Córdoba (Argentina) y doctora en Sagrada Teología por la Facultad de Teología de Valencia. \nLa cita se desarrollará en el salón de actos del Arzobispado de Valencia\, en la calle Avellanas nº 12\, el miércoles 19 de octubre\, a partir de la 12:30 horas. \nLa Jornada Mundial de las Misiones es el día en que\, de un modo especial\, la Iglesia universal reza por los misioneros y colabora con las misiones. \nSe celebra en todo el mundo el penúltimo domingo de octubre\, y este año el Domund cumple 200 años al servicio de la misión. \n\n
URL:https://www.teologiavalencia.es/evento/conferencia-maria-discipula-y-misionera/
LOCATION:Salón de Actos del Arzobispado de Valencia\, C/ Avellanas\, 12\, Valencia\, Valencia\, 46003\, España
CATEGORIES:Conferencias
END:VEVENT
END:VCALENDAR