BEGIN:VCALENDAR
VERSION:2.0
PRODID:-//Facultad de Teología Valencia - ECPv5.0.1//NONSGML v1.0//EN
CALSCALE:GREGORIAN
METHOD:PUBLISH
X-WR-CALNAME:Facultad de Teología Valencia
X-ORIGINAL-URL:https://www.teologiavalencia.es
X-WR-CALDESC:Eventos para Facultad de Teología Valencia
BEGIN:VTIMEZONE
TZID:Europe/Paris
BEGIN:DAYLIGHT
TZOFFSETFROM:+0100
TZOFFSETTO:+0200
TZNAME:CEST
DTSTART:20230326T010000
END:DAYLIGHT
BEGIN:STANDARD
TZOFFSETFROM:+0200
TZOFFSETTO:+0100
TZNAME:CET
DTSTART:20231029T010000
END:STANDARD
END:VTIMEZONE
BEGIN:VEVENT
DTSTART;TZID=Europe/Paris:20230126T120000
DTEND;TZID=Europe/Paris:20230126T133000
DTSTAMP:20260423T121553
CREATED:20230103T075321Z
LAST-MODIFIED:20230103T110028Z
UID:9472-1674734400-1674739800@www.teologiavalencia.es
SUMMARY:Conferencia: 50 años de la Facultad de Teología san Vicente Ferrer de Valencia
DESCRIPTION:Ponente: Mons. Vicente Cárcel\, historiador y vicario episcopal para los sacerdotes residentes en Roma. \nDía: Jueves 26 de enero de 2023. \nHorario: 12:00. \nLugar: Basílica del Sagrado Corazón de Jesús. \nEsta conferencia abrirá también los actos de celebración del cincuentenario de la Facultad de Teología de Valencia. \n
URL:https://www.teologiavalencia.es/evento/conferencia-50-anos-de-la-facultad-de-teologia-san-vicente-ferrer-de-valencia/
LOCATION:Basílica del Sagrado Corazón de Jesús (Valencia)\, Plaza de la Compañía s/n\, Valencia\, Valencia\, 46001\, España
CATEGORIES:50 aniversario Facultad de Teología,Conferencias
END:VEVENT
END:VCALENDAR