BEGIN:VCALENDAR
VERSION:2.0
PRODID:-//Facultad de Teología Valencia - ECPv5.0.1//NONSGML v1.0//EN
CALSCALE:GREGORIAN
METHOD:PUBLISH
X-WR-CALNAME:Facultad de Teología Valencia
X-ORIGINAL-URL:https://www.teologiavalencia.es
X-WR-CALDESC:Eventos para Facultad de Teología Valencia
BEGIN:VTIMEZONE
TZID:Europe/Paris
BEGIN:DAYLIGHT
TZOFFSETFROM:+0100
TZOFFSETTO:+0200
TZNAME:CEST
DTSTART:20240331T010000
END:DAYLIGHT
BEGIN:STANDARD
TZOFFSETFROM:+0200
TZOFFSETTO:+0100
TZNAME:CET
DTSTART:20241027T010000
END:STANDARD
END:VTIMEZONE
BEGIN:VEVENT
DTSTART;TZID=Europe/Paris:20240131T173000
DTEND;TZID=Europe/Paris:20240131T193000
DTSTAMP:20260422T150939
CREATED:20240123T182331Z
LAST-MODIFIED:20240123T182417Z
UID:10983-1706722200-1706729400@www.teologiavalencia.es
SUMMARY:Fiesta de Santo Tomás de Aquino
DESCRIPTION:La Facultad de Teología San Vicente Ferrer de la Universidad Católica de Valencia celebrará la festividad de Santo Tomás de Aquino el próximo miércoles 31 de enero de 2024 con una eucaristía en la Basílica del Sagrado Corazón Jesús y una conferencia ofrecida por el religioso dominico Javier Carballo. \nLa celebración de la fiesta del patrón de los estudiantes y de las universidades y escuelas católicas comenzará a las 17:30\, con una misa en la Basílica del Sagrado Corazón de Jesús de Valencia\, situada en la plaza de la Compañía\, junto a la sede de la Facultad de Teología. \nDespués de la eucaristía tendrá lugar\, en el mismo escenario\, la conferencia del P. Javier Carballo Fernández\, O.P.\, que lleva por título Horizontes de nueva humanidad: Eladio Chávarri en diálogo con Tomás de Aquino. \n \n  \n
URL:https://www.teologiavalencia.es/evento/fiesta-de-santo-tomas-de-aquino-5/
LOCATION:Basílica del Sagrado Corazón de Jesús (Valencia)\, Plaza de la Compañía s/n\, Valencia\, Valencia\, 46001\, España
CATEGORIES:Conferencias,Festividades,Noticias Facultad de Teología
ATTACH;FMTTYPE=image/jpeg:https://www.teologiavalencia.es/wp-content/uploads/2024/01/Fiesta-Santo-Tomás-de-Aquino-2024-1600-x-1200-px.jpg
END:VEVENT
END:VCALENDAR