BEGIN:VCALENDAR
VERSION:2.0
PRODID:-//Facultad de Teología Valencia - ECPv5.0.1//NONSGML v1.0//EN
CALSCALE:GREGORIAN
METHOD:PUBLISH
X-WR-CALNAME:Facultad de Teología Valencia
X-ORIGINAL-URL:https://www.teologiavalencia.es
X-WR-CALDESC:Eventos para Facultad de Teología Valencia
BEGIN:VTIMEZONE
TZID:Europe/Paris
BEGIN:DAYLIGHT
TZOFFSETFROM:+0100
TZOFFSETTO:+0200
TZNAME:CEST
DTSTART:20250330T010000
END:DAYLIGHT
BEGIN:STANDARD
TZOFFSETFROM:+0200
TZOFFSETTO:+0100
TZNAME:CET
DTSTART:20251026T010000
END:STANDARD
END:VTIMEZONE
BEGIN:VEVENT
DTSTART;TZID=Europe/Paris:20250123T180000
DTEND;TZID=Europe/Paris:20250123T200000
DTSTAMP:20260421T210957
CREATED:20250116T160713Z
LAST-MODIFIED:20250116T161110Z
UID:11942-1737655200-1737662400@www.teologiavalencia.es
SUMMARY:Fiesta de Santo Tomás de Aquino 2025 en la Facultad de Teología de Valencia
DESCRIPTION:La Universidad Católica de Valencia celebrará la fiesta de Santo Tomás de Aquino el próximo viernes 24 de enero de 2025\, un acto al que solo puede asistir\, por cuestiones de aforo\, los profesores y miembros del personas de administración y servicio que se inscriban.\n\nMás allá de esta celebración\, en la Facultad de Teología San Vicente Ferrer de Valencia se quiere mantener la conmemoración de la figura del Aquinate. Su papel fundamental dentro del pensamiento teológico y nuestra especial vinculación con la Orden de Predicadores nos anima a mantener una tradición que forma parte de nuestra esencia.\n\nPor este motivo\, se ha organizado una celebración para toda la comunidad académica de nuestra Facultad: profesorado\, alumnado y miembros del PAS.\n\nEl jueves 23 de enero\, a las 18:00 horas\, habrá una misa en la Capilla de la Sede Trinitarios. Tras la eucaristía\, Fr. Sixto Castro OP\, doctor en Filosofía y catedrático de Estética en la Universidad de Valladolid\, ofrecerá una charla en torno a La traducción teológica según Santo Tomás\, un particular adelanto de lo que será la lección magistral que impartirá\, el día siguiente\, durante el acto académico de la UCV.\n\n\n\n
URL:https://www.teologiavalencia.es/evento/fiesta-de-santo-tomas-de-aquino-2025-en-la-facultad-de-teologia-de-valencia/
LOCATION:Facultad de Teología San Vicente Ferrer\, C/Trinitarios\, 3\, Valencia\, Comunidad Valenciana\, 46003\, España
CATEGORIES:Conferencias,Festividades,Noticias Facultad de Teología
ATTACH;FMTTYPE=image/jpeg:https://www.teologiavalencia.es/wp-content/uploads/2025/01/Fiesta-Santo-Tomás-de-Aquino-2025-Post-para-Instagram-1.jpg
END:VEVENT
END:VCALENDAR